BEGIN:VCALENDAR
VERSION:2.0
PRODID:-//EnVerde Cooperativa Extremeña de Consumo de energía renovable - ECPv6.15.20//NONSGML v1.0//EN
CALSCALE:GREGORIAN
METHOD:PUBLISH
X-ORIGINAL-URL:https://www.energiaenverde.com
X-WR-CALDESC:Eventos para EnVerde Cooperativa Extremeña de Consumo de energía renovable
REFRESH-INTERVAL;VALUE=DURATION:PT1H
X-Robots-Tag:noindex
X-PUBLISHED-TTL:PT1H
BEGIN:VTIMEZONE
TZID:Europe/Paris
BEGIN:DAYLIGHT
TZOFFSETFROM:+0100
TZOFFSETTO:+0200
TZNAME:CEST
DTSTART:20220327T010000
END:DAYLIGHT
BEGIN:STANDARD
TZOFFSETFROM:+0200
TZOFFSETTO:+0100
TZNAME:CET
DTSTART:20221030T010000
END:STANDARD
BEGIN:DAYLIGHT
TZOFFSETFROM:+0100
TZOFFSETTO:+0200
TZNAME:CEST
DTSTART:20230326T010000
END:DAYLIGHT
BEGIN:STANDARD
TZOFFSETFROM:+0200
TZOFFSETTO:+0100
TZNAME:CET
DTSTART:20231029T010000
END:STANDARD
BEGIN:DAYLIGHT
TZOFFSETFROM:+0100
TZOFFSETTO:+0200
TZNAME:CEST
DTSTART:20240331T010000
END:DAYLIGHT
BEGIN:STANDARD
TZOFFSETFROM:+0200
TZOFFSETTO:+0100
TZNAME:CET
DTSTART:20241027T010000
END:STANDARD
END:VTIMEZONE
BEGIN:VTIMEZONE
TZID:Europe/Madrid
BEGIN:DAYLIGHT
TZOFFSETFROM:+0100
TZOFFSETTO:+0200
TZNAME:CEST
DTSTART:20250330T010000
END:DAYLIGHT
BEGIN:STANDARD
TZOFFSETFROM:+0200
TZOFFSETTO:+0100
TZNAME:CET
DTSTART:20251026T010000
END:STANDARD
BEGIN:DAYLIGHT
TZOFFSETFROM:+0100
TZOFFSETTO:+0200
TZNAME:CEST
DTSTART:20260329T010000
END:DAYLIGHT
BEGIN:STANDARD
TZOFFSETFROM:+0200
TZOFFSETTO:+0100
TZNAME:CET
DTSTART:20261025T010000
END:STANDARD
BEGIN:DAYLIGHT
TZOFFSETFROM:+0100
TZOFFSETTO:+0200
TZNAME:CEST
DTSTART:20270328T010000
END:DAYLIGHT
BEGIN:STANDARD
TZOFFSETFROM:+0200
TZOFFSETTO:+0100
TZNAME:CET
DTSTART:20271031T010000
END:STANDARD
END:VTIMEZONE
BEGIN:VEVENT
DTSTART;TZID=Europe/Paris:20230314T183000
DTEND;TZID=Europe/Paris:20230314T193000
DTSTAMP:20260424T003913
CREATED:20230314T170410Z
LAST-MODIFIED:20230314T170410Z
UID:4760-1678818600-1678822200@www.energiaenverde.com
SUMMARY:Taller online Comunidades energéticas
DESCRIPTION:¿Sabes qué es una comunidad energética? \nNo te pierdas este taller\, conocerás esta nueva herramienta que pretende poner la energía en manos de las personas.
URL:https://www.energiaenverde.com/event/taller-online-comunidades-energeticas/
ATTACH;FMTTYPE=image/jpeg:https://www.energiaenverde.com/wp-content/uploads/2023/03/1-1.jpg
END:VEVENT
BEGIN:VEVENT
DTSTART;TZID=Europe/Paris:20230315T183000
DTEND;TZID=Europe/Paris:20230315T193000
DTSTAMP:20260424T003913
CREATED:20230314T170946Z
LAST-MODIFIED:20230314T170946Z
UID:4764-1678905000-1678908600@www.energiaenverde.com
SUMMARY:Reunión grupos focales para personas socias. Badajoz
DESCRIPTION:
URL:https://www.energiaenverde.com/event/reunion-grupos-focales-para-personas-socias-badajoz/
ATTACH;FMTTYPE=image/jpeg:https://www.energiaenverde.com/wp-content/uploads/2023/03/1-2.jpg
END:VEVENT
BEGIN:VEVENT
DTSTART;TZID=Europe/Paris:20230322T091500
DTEND;TZID=Europe/Paris:20230322T140000
DTSTAMP:20260424T003913
CREATED:20230314T164937Z
LAST-MODIFIED:20230314T164937Z
UID:4749-1679476500-1679493600@www.energiaenverde.com
SUMMARY:Participación en la jornada La transición energética: comunidades energéticas locales
DESCRIPTION:
URL:https://www.energiaenverde.com/event/participacion-en-la-jornada-la-transicion-energetica-comunidades-energeticas-locales/
ATTACH;FMTTYPE=image/png:https://www.energiaenverde.com/wp-content/uploads/2023/03/1.png
END:VEVENT
BEGIN:VEVENT
DTSTART;TZID=Europe/Paris:20230325T120000
DTEND;TZID=Europe/Paris:20230325T120000
DTSTAMP:20260424T003913
CREATED:20230314T165306Z
LAST-MODIFIED:20230314T165306Z
UID:4752-1679745600-1679745600@www.energiaenverde.com
SUMMARY:Participación en la jornada Extremeñería
DESCRIPTION:Participaremos en la mesa de debate sobre socioeconomía. \nEsta jornada se celebrará en La Enredadera\, situada en la Calle Cimbrón nº 1 de Mérida.
URL:https://www.energiaenverde.com/event/participacion-en-la-jornada-extremeneria/
END:VEVENT
BEGIN:VEVENT
DTSTART;TZID=Europe/Paris:20230413T190000
DTEND;TZID=Europe/Paris:20230413T200000
DTSTAMP:20260424T003913
CREATED:20230314T165510Z
LAST-MODIFIED:20230314T165510Z
UID:4754-1681412400-1681416000@www.energiaenverde.com
SUMMARY:Taller Comunidades energéticas
DESCRIPTION:Tendrá lugar en el salón de actos de la casa de la cultura de Llerena.
URL:https://www.energiaenverde.com/event/taller-comunidades-energeticas/
END:VEVENT
BEGIN:VEVENT
DTSTART;TZID=Europe/Paris:20230421T120000
DTEND;TZID=Europe/Paris:20230421T133000
DTSTAMP:20260424T003913
CREATED:20230314T170002Z
LAST-MODIFIED:20230314T170017Z
UID:4756-1682078400-1682083800@www.energiaenverde.com
SUMMARY:Participación en el Congreso Ibérico sobre energía renovable y Red Natura 2000
DESCRIPTION:Participaremos en la Mesa Alternativas para minimizar los impactos derivados de la producción de energía renovables sobre el medio ambiente.
URL:https://www.energiaenverde.com/event/participacion-en-el-congreso-iberico-sobre-energia-renovable-y-red-natura-2000/
ATTACH;FMTTYPE=image/jpeg:https://www.energiaenverde.com/wp-content/uploads/2023/03/1.jpg
END:VEVENT
BEGIN:VEVENT
DTSTART;TZID=Europe/Madrid:20260409T080000
DTEND;TZID=Europe/Madrid:20260409T170000
DTSTAMP:20260424T003913
CREATED:20260409T072045Z
LAST-MODIFIED:20260409T072045Z
UID:6273-1775721600-1775754000@www.energiaenverde.com
SUMMARY:🌱 EnVerde: un trimestre sembrando comunidad energética
DESCRIPTION:Arrancamos el año haciendo lo que mejor sabemos: tejer comunidad\, acompañar procesos y poner la energía en manos de la gente. \n⚡ En Cáceres\, hemos vivido uno de esos momentos que marcan camino. Tras meses de trabajo colectivo\, acompañando a un grupo motor comprometido\, se ha constituido la primera comunidad energética de la ciudad. Más de 30 familias ya están demostrando que otra forma de consumir —y decidir— la energía es posible: local\, compartida y sin ánimo de lucro. \n💡 Este avance no es solo técnico\, es profundamente social: personas que pasan de ser consumidoras a protagonistas. Porque cuando la energía se comparte\, también lo hacen las oportunidades. \n🌍 Y no es un caso aislado. Iniciativas como las de Mérida\, Llerena\, Montánchez o Almendralejo siguen creciendo\, consolidando un modelo que prioriza el territorio\, reduce costes y genera impacto positivo real. \n🤝 En paralelo\, seguimos acompañando nuevos proyectos\, fortaleciendo grupos y ampliando redes. Nuestro objetivo sigue claro: crear comunidades energéticas donde lo importante sean las personas\, no solo los kilovatios. \n🗓️ Y como parte de este proceso colectivo\, ya estamos preparando uno de los momentos clave del año: la V Asamblea de EnVerde. Un espacio para encontrarnos\, tomar decisiones importantes\, renovar órganos y seguir construyendo juntas el futuro de la cooperativa. Será una jornada con contenido\, participación y convivencia… porque sabemos que el cambio también se construye cara a cara. \n📰 Además\, seguimos alimentando el debate público. Nuestra vicepresidenta\, Lorena Torres\, ha puesto sobre la mesa una pregunta incómoda pero necesaria:\n👉 ¿Quién se está quedando realmente con los beneficios de la energía en Extremadura? \nhttps://www.elsaltodiario.com/extremadura-/quien-nos-roba-oportunidades-extremadura-produce-energia-otros-se-quedan-beneficio \nUna reflexión clave para entender por qué es urgente impulsar modelos más justos\, donde el desarrollo no signifique explotación del territorio\, sino bienestar compartido. \n🎬 Y también abrimos espacios para pensar colectivamente\, como la proyección del documental “Vidas irrenovables”\, que nos invita a mirar más allá del modelo energético actual y sus impactos reales en las personas y el entorno. \n🌱 Seguimos.\nSeguimos creando.\nSeguimos acompañando.\nSeguimos construyendo comunidad. \nPorque lo tenemos claro:\n⚡ la energía del futuro será cooperativa… o no será. \n#EnVerde #EnergíaCooperativa #ComunidadEnergética #Extremadura #TransiciónEnergética #Participación
URL:https://www.energiaenverde.com/event/%f0%9f%8c%b1-enverde-un-trimestre-sembrando-comunidad-energetica/
END:VEVENT
END:VCALENDAR