BEGIN:VCALENDAR
VERSION:2.0
PRODID:-//EnVerde Cooperativa Extremeña de Consumo de energía renovable - ECPv6.15.20//NONSGML v1.0//EN
CALSCALE:GREGORIAN
METHOD:PUBLISH
X-WR-CALNAME:EnVerde Cooperativa Extremeña de Consumo de energía renovable
X-ORIGINAL-URL:https://www.energiaenverde.com
X-WR-CALDESC:Eventos para EnVerde Cooperativa Extremeña de Consumo de energía renovable
REFRESH-INTERVAL;VALUE=DURATION:PT1H
X-Robots-Tag:noindex
X-PUBLISHED-TTL:PT1H
BEGIN:VTIMEZONE
TZID:Europe/Paris
BEGIN:DAYLIGHT
TZOFFSETFROM:+0100
TZOFFSETTO:+0200
TZNAME:CEST
DTSTART:20200329T010000
END:DAYLIGHT
BEGIN:STANDARD
TZOFFSETFROM:+0200
TZOFFSETTO:+0100
TZNAME:CET
DTSTART:20201025T010000
END:STANDARD
BEGIN:DAYLIGHT
TZOFFSETFROM:+0100
TZOFFSETTO:+0200
TZNAME:CEST
DTSTART:20210328T010000
END:DAYLIGHT
BEGIN:STANDARD
TZOFFSETFROM:+0200
TZOFFSETTO:+0100
TZNAME:CET
DTSTART:20211031T010000
END:STANDARD
BEGIN:DAYLIGHT
TZOFFSETFROM:+0100
TZOFFSETTO:+0200
TZNAME:CEST
DTSTART:20220327T010000
END:DAYLIGHT
BEGIN:STANDARD
TZOFFSETFROM:+0200
TZOFFSETTO:+0100
TZNAME:CET
DTSTART:20221030T010000
END:STANDARD
END:VTIMEZONE
BEGIN:VEVENT
DTSTART;TZID=Europe/Paris:20211007T200000
DTEND;TZID=Europe/Paris:20211007T213000
DTSTAMP:20260424T225429
CREATED:20211001T164610Z
LAST-MODIFIED:20211001T170305Z
UID:1780-1633636800-1633642200@www.energiaenverde.com
SUMMARY:Presentación en Badajoz
DESCRIPTION:Presentación del proyecto de EnVerde en el Círculo Pacense de Badajoz\, por Lorena Torres y Alfredo Pérez. \n¡Unéte a la creación de este proyecto ilusionante!
URL:https://www.energiaenverde.com/event/presentacion-en-badajoz/
LOCATION:CIRCULO PACENSE\, C/ Ramón Albarrán 24\, BADAJOZ
ATTACH;FMTTYPE=image/jpeg:https://www.energiaenverde.com/wp-content/uploads/2021/10/cartel-7-octubre-coop-1.jpg
END:VEVENT
BEGIN:VEVENT
DTSTART;TZID=Europe/Paris:20211021T200000
DTEND;TZID=Europe/Paris:20211021T213000
DTSTAMP:20260424T225429
CREATED:20211108T080859Z
LAST-MODIFIED:20211108T080859Z
UID:1816-1634846400-1634851800@www.energiaenverde.com
SUMMARY:Presentación en el Ateneo de Cáceres
DESCRIPTION:Participamos en la mesa redonda de Retos para una transición agroECOLÓGICA para Extremadura
URL:https://www.energiaenverde.com/event/presentacion-en-el-ateneo-de-caceres/
ATTACH;FMTTYPE=image/jpeg:https://www.energiaenverde.com/wp-content/uploads/2021/11/caceres.jpg
END:VEVENT
BEGIN:VEVENT
DTSTART;TZID=Europe/Paris:20211023T123000
DTEND;TZID=Europe/Paris:20211023T123000
DTSTAMP:20260424T225429
CREATED:20211017T165539Z
LAST-MODIFIED:20211017T170642Z
UID:1794-1634992200-1634992200@www.energiaenverde.com
SUMMARY:Presentación en Mérida
DESCRIPTION:Sábado 23 de octubre de 2021\, a las 12:30 horas. \nPresentación del proyecto de EnVerde\, por Yolanda Tomé\, en la asociación cultural La Enredadera. \nCalle Cimbrón 1 de MÉRIDA. \n¡Únete a la creación de este proyecto ilusionante!
URL:https://www.energiaenverde.com/event/presentacion-en-merida/
ATTACH;FMTTYPE=image/png:https://www.energiaenverde.com/wp-content/uploads/2021/10/Reunion_Merida-2.png
END:VEVENT
END:VCALENDAR