BEGIN:VCALENDAR
VERSION:2.0
PRODID:-//EnVerde Cooperativa Extremeña de Consumo de energía renovable - ECPv6.15.20//NONSGML v1.0//EN
CALSCALE:GREGORIAN
METHOD:PUBLISH
X-ORIGINAL-URL:https://www.energiaenverde.com
X-WR-CALDESC:Eventos para EnVerde Cooperativa Extremeña de Consumo de energía renovable
REFRESH-INTERVAL;VALUE=DURATION:PT1H
X-Robots-Tag:noindex
X-PUBLISHED-TTL:PT1H
BEGIN:VTIMEZONE
TZID:Europe/Paris
BEGIN:DAYLIGHT
TZOFFSETFROM:+0100
TZOFFSETTO:+0200
TZNAME:CEST
DTSTART:20200329T010000
END:DAYLIGHT
BEGIN:STANDARD
TZOFFSETFROM:+0200
TZOFFSETTO:+0100
TZNAME:CET
DTSTART:20201025T010000
END:STANDARD
BEGIN:DAYLIGHT
TZOFFSETFROM:+0100
TZOFFSETTO:+0200
TZNAME:CEST
DTSTART:20210328T010000
END:DAYLIGHT
BEGIN:STANDARD
TZOFFSETFROM:+0200
TZOFFSETTO:+0100
TZNAME:CET
DTSTART:20211031T010000
END:STANDARD
BEGIN:DAYLIGHT
TZOFFSETFROM:+0100
TZOFFSETTO:+0200
TZNAME:CEST
DTSTART:20220327T010000
END:DAYLIGHT
BEGIN:STANDARD
TZOFFSETFROM:+0200
TZOFFSETTO:+0100
TZNAME:CET
DTSTART:20221030T010000
END:STANDARD
END:VTIMEZONE
BEGIN:VEVENT
DTSTART;TZID=Europe/Paris:20211219T104500
DTEND;TZID=Europe/Paris:20211219T140000
DTSTAMP:20260424T195838
CREATED:20211210T164005Z
LAST-MODIFIED:20211210T164137Z
UID:1824-1639910700-1639922400@www.energiaenverde.com
SUMMARY:ASAMBLEA CONSTITUYENTE
DESCRIPTION:El día 19 de diciembre de 2021 celebraremos en Mérida nuestra Asamblea Constituyente\, en la que elegiremos al Consejo Rector y crearemos grupos de trabajo para darle forma definitiva a este proyecto. \n 
URL:https://www.energiaenverde.com/event/asamblea-constituyente/
ATTACH;FMTTYPE=image/png:https://www.energiaenverde.com/wp-content/uploads/2021/12/AsambleaConstituyente.png
END:VEVENT
END:VCALENDAR