BEGIN:VCALENDAR
VERSION:2.0
PRODID:-//EnVerde Cooperativa Extremeña de Consumo de energía renovable - ECPv6.15.20//NONSGML v1.0//EN
CALSCALE:GREGORIAN
METHOD:PUBLISH
X-ORIGINAL-URL:https://www.energiaenverde.com
X-WR-CALDESC:Eventos para EnVerde Cooperativa Extremeña de Consumo de energía renovable
REFRESH-INTERVAL;VALUE=DURATION:PT1H
X-Robots-Tag:noindex
X-PUBLISHED-TTL:PT1H
BEGIN:VTIMEZONE
TZID:Europe/Paris
BEGIN:DAYLIGHT
TZOFFSETFROM:+0100
TZOFFSETTO:+0200
TZNAME:CEST
DTSTART:20210328T010000
END:DAYLIGHT
BEGIN:STANDARD
TZOFFSETFROM:+0200
TZOFFSETTO:+0100
TZNAME:CET
DTSTART:20211031T010000
END:STANDARD
BEGIN:DAYLIGHT
TZOFFSETFROM:+0100
TZOFFSETTO:+0200
TZNAME:CEST
DTSTART:20220327T010000
END:DAYLIGHT
BEGIN:STANDARD
TZOFFSETFROM:+0200
TZOFFSETTO:+0100
TZNAME:CET
DTSTART:20221030T010000
END:STANDARD
BEGIN:DAYLIGHT
TZOFFSETFROM:+0100
TZOFFSETTO:+0200
TZNAME:CEST
DTSTART:20230326T010000
END:DAYLIGHT
BEGIN:STANDARD
TZOFFSETFROM:+0200
TZOFFSETTO:+0100
TZNAME:CET
DTSTART:20231029T010000
END:STANDARD
END:VTIMEZONE
BEGIN:VEVENT
DTSTART;TZID=Europe/Paris:20220506T190000
DTEND;TZID=Europe/Paris:20220506T190000
DTSTAMP:20260424T123404
CREATED:20220628T063312Z
LAST-MODIFIED:20220628T063312Z
UID:3309-1651863600-1651863600@www.energiaenverde.com
SUMMARY:¡Cambia la luz del Valle del Jerte!
DESCRIPTION:
URL:https://www.energiaenverde.com/event/cambia-la-luz-del-valle-del-jerte/
ATTACH;FMTTYPE=image/jpeg:https://www.energiaenverde.com/wp-content/uploads/2022/06/Jerte_2022.jpg
END:VEVENT
END:VCALENDAR