BEGIN:VCALENDAR
VERSION:2.0
PRODID:-//EnVerde Cooperativa Extremeña de Consumo de energía renovable - ECPv6.15.20//NONSGML v1.0//EN
CALSCALE:GREGORIAN
METHOD:PUBLISH
X-WR-CALNAME:EnVerde Cooperativa Extremeña de Consumo de energía renovable
X-ORIGINAL-URL:https://www.energiaenverde.com
X-WR-CALDESC:Eventos para EnVerde Cooperativa Extremeña de Consumo de energía renovable
REFRESH-INTERVAL;VALUE=DURATION:PT1H
X-Robots-Tag:noindex
X-PUBLISHED-TTL:PT1H
BEGIN:VTIMEZONE
TZID:Europe/Paris
BEGIN:DAYLIGHT
TZOFFSETFROM:+0100
TZOFFSETTO:+0200
TZNAME:CEST
DTSTART:20220327T010000
END:DAYLIGHT
BEGIN:STANDARD
TZOFFSETFROM:+0200
TZOFFSETTO:+0100
TZNAME:CET
DTSTART:20221030T010000
END:STANDARD
BEGIN:DAYLIGHT
TZOFFSETFROM:+0100
TZOFFSETTO:+0200
TZNAME:CEST
DTSTART:20230326T010000
END:DAYLIGHT
BEGIN:STANDARD
TZOFFSETFROM:+0200
TZOFFSETTO:+0100
TZNAME:CET
DTSTART:20231029T010000
END:STANDARD
BEGIN:DAYLIGHT
TZOFFSETFROM:+0100
TZOFFSETTO:+0200
TZNAME:CEST
DTSTART:20240331T010000
END:DAYLIGHT
BEGIN:STANDARD
TZOFFSETFROM:+0200
TZOFFSETTO:+0100
TZNAME:CET
DTSTART:20241027T010000
END:STANDARD
END:VTIMEZONE
BEGIN:VEVENT
DTSTART;TZID=Europe/Paris:20230413T190000
DTEND;TZID=Europe/Paris:20230413T200000
DTSTAMP:20260423T203912
CREATED:20230314T165510Z
LAST-MODIFIED:20230314T165510Z
UID:4754-1681412400-1681416000@www.energiaenverde.com
SUMMARY:Taller Comunidades energéticas
DESCRIPTION:Tendrá lugar en el salón de actos de la casa de la cultura de Llerena.
URL:https://www.energiaenverde.com/event/taller-comunidades-energeticas/
END:VEVENT
BEGIN:VEVENT
DTSTART;TZID=Europe/Paris:20230421T120000
DTEND;TZID=Europe/Paris:20230421T133000
DTSTAMP:20260423T203912
CREATED:20230314T170002Z
LAST-MODIFIED:20230314T170017Z
UID:4756-1682078400-1682083800@www.energiaenverde.com
SUMMARY:Participación en el Congreso Ibérico sobre energía renovable y Red Natura 2000
DESCRIPTION:Participaremos en la Mesa Alternativas para minimizar los impactos derivados de la producción de energía renovables sobre el medio ambiente.
URL:https://www.energiaenverde.com/event/participacion-en-el-congreso-iberico-sobre-energia-renovable-y-red-natura-2000/
ATTACH;FMTTYPE=image/jpeg:https://www.energiaenverde.com/wp-content/uploads/2023/03/1.jpg
END:VEVENT
END:VCALENDAR